BEGIN:VCALENDAR
VERSION:2.0
PRODID:-//Q Plus My Identity - ECPv6.15.20//NONSGML v1.0//EN
CALSCALE:GREGORIAN
METHOD:PUBLISH
X-WR-CALNAME:Q Plus My Identity
X-ORIGINAL-URL:https://www.qplus.me
X-WR-CALDESC:Events for Q Plus My Identity
REFRESH-INTERVAL;VALUE=DURATION:PT1H
X-Robots-Tag:noindex
X-PUBLISHED-TTL:PT1H
BEGIN:VTIMEZONE
TZID:Asia/Kolkata
BEGIN:STANDARD
TZOFFSETFROM:+0530
TZOFFSETTO:+0530
TZNAME:IST
DTSTART:20240101T000000
END:STANDARD
END:VTIMEZONE
BEGIN:VEVENT
DTSTART;TZID=Asia/Kolkata:20250722T090000
DTEND;TZID=Asia/Kolkata:20250928T170000
DTSTAMP:20260426T002851
CREATED:20250723T094525Z
LAST-MODIFIED:20250801T104815Z
UID:33991-1753174800-1759078800@www.qplus.me
SUMMARY:Pride Art Showcase
DESCRIPTION:Join us for a vibrant evening celebrating LGBTQ+ art\, culture\, and self-expression. The event will feature live performances\, interactive art installations\, and a panel discussion on queer representation in media.
URL:https://www.qplus.me/event/pride-art-showcase/
LOCATION:Chennai\, 5/750\, SAAC\, 2nd Floor\, Sabari Salai\, Madipakkam\, Chennai\, Tamilnadu\, 600091\, India
CATEGORIES:Meetup
END:VEVENT
END:VCALENDAR